BEGIN:VCALENDAR
VERSION:2.0
PRODID:-//StreamRadar//Match Calendar//EN
CALSCALE:GREGORIAN
METHOD:PUBLISH
X-WR-CALNAME:Argentino Rosario vs Puerto Nuevo
X-WR-TIMEZONE:America/New_York
BEGIN:VEVENT
UID:match-5534124@streamradar.soccer
SUMMARY:Argentino Rosario vs Puerto Nuevo
DTSTAMP:20260421T213611Z
DTSTART;TZID=America/New_York:20260725T160000
DTEND;TZID=America/New_York:20260725T180000
DESCRIPTION:Gde gledati Argentino Rosario protiv Puerto Nuevo u takmičenju
  Argentina - Primera C Metropolitana. Prenos uživo i TV program.\nhttps://
 streamradar.soccer/sr/match/5534124/argentino-rosario-vs-puerto-nuevo/
URL;VALUE=URI:https://streamradar.soccer/sr/match/5534124/argentino-rosario
 -vs-puerto-nuevo/
STATUS:CONFIRMED
END:VEVENT
END:VCALENDAR
