BEGIN:VCALENDAR
VERSION:2.0
PRODID:-//StreamRadar//Match Calendar//EN
CALSCALE:GREGORIAN
METHOD:PUBLISH
X-WR-CALNAME:Claypole vs Juventud Unida
X-WR-TIMEZONE:America/New_York
BEGIN:VEVENT
UID:match-5534113@streamradar.soccer
SUMMARY:Claypole vs Juventud Unida
DTSTAMP:20260422T015528Z
DTSTART;TZID=America/New_York:20260718T160000
DTEND;TZID=America/New_York:20260718T180000
DESCRIPTION:Gde gledati Claypole protiv Juventud Unida u takmičenju Argent
 ina - Primera C Metropolitana. Prenos uživo i TV program.\nhttps://streamr
 adar.soccer/sr/match/5534113/claypole-vs-juventud-unida/
URL;VALUE=URI:https://streamradar.soccer/sr/match/5534113/claypole-vs-juven
 tud-unida/
STATUS:CONFIRMED
END:VEVENT
END:VCALENDAR
