BEGIN:VCALENDAR
VERSION:2.0
PRODID:-//StreamRadar//Match Calendar//EN
CALSCALE:GREGORIAN
METHOD:PUBLISH
X-WR-CALNAME:Ulsan vs Seoul
X-WR-TIMEZONE:America/New_York
BEGIN:VEVENT
UID:match-5533808@streamradar.soccer
SUMMARY:Ulsan vs Seoul
DTSTAMP:20260421T185335Z
DTSTART;TZID=America/New_York:20260908T063000
DTEND;TZID=America/New_York:20260908T083000
LOCATION:Ulsan Munsu Football Stadium
DESCRIPTION:Gde gledati Ulsan protiv Seoul u takmičenju Južna Koreja - K 
 League 1. Prenos uživo i TV program.\nhttps://streamradar.soccer/sr/match/
 5533808/ulsan-vs-seoul/
URL;VALUE=URI:https://streamradar.soccer/sr/match/5533808/ulsan-vs-seoul/
STATUS:CONFIRMED
END:VEVENT
END:VCALENDAR
