BEGIN:VCALENDAR
VERSION:2.0
PRODID:-//StreamRadar//Match Calendar//EN
CALSCALE:GREGORIAN
METHOD:PUBLISH
X-WR-CALNAME:Orlando Pride vs Portland Thorns
X-WR-TIMEZONE:America/New_York
BEGIN:VEVENT
UID:match-5533591@streamradar.soccer
SUMMARY:Orlando Pride vs Portland Thorns
DTSTAMP:20260422T084644Z
DTSTART;TZID=America/New_York:20260919T160000
DTEND;TZID=America/New_York:20260919T180000
DESCRIPTION:Gde gledati Orlando Pride protiv Portland Thorns u takmičenju 
 NWSL. Prenos uživo i TV program.\nhttps://streamradar.soccer/sr/match/5533
 591/orlando-pride-vs-portland-thorns/
URL;VALUE=URI:https://streamradar.soccer/sr/match/5533591/orlando-pride-vs-
 portland-thorns/
STATUS:CONFIRMED
END:VEVENT
END:VCALENDAR
