BEGIN:VCALENDAR
VERSION:2.0
PRODID:-//StreamRadar//Match Calendar//EN
CALSCALE:GREGORIAN
METHOD:PUBLISH
X-WR-CALNAME:Portland Thorns vs Chicago Stars
X-WR-TIMEZONE:America/New_York
BEGIN:VEVENT
UID:match-5533587@streamradar.soccer
SUMMARY:Portland Thorns vs Chicago Stars
DTSTAMP:20260421T092437Z
DTSTART;TZID=America/New_York:20260913T190000
DTEND;TZID=America/New_York:20260913T210000
LOCATION:Providence Park
DESCRIPTION:Gde gledati Portland Thorns protiv Chicago Stars u takmičenju 
 NWSL. Prenos uživo i TV program.\nhttps://streamradar.soccer/sr/match/5533
 587/portland-thorns-vs-chicago-stars/
URL;VALUE=URI:https://streamradar.soccer/sr/match/5533587/portland-thorns-v
 s-chicago-stars/
STATUS:CONFIRMED
END:VEVENT
END:VCALENDAR
