BEGIN:VCALENDAR
VERSION:2.0
PRODID:-//StreamRadar//Match Calendar//EN
CALSCALE:GREGORIAN
METHOD:PUBLISH
X-WR-CALNAME:San Diego Wave vs North Carolina Courage
X-WR-TIMEZONE:America/New_York
BEGIN:VEVENT
UID:match-5533584@streamradar.soccer
SUMMARY:San Diego Wave vs North Carolina Courage
DTSTAMP:20260421T092409Z
DTSTART;TZID=America/New_York:20260912T183000
DTEND;TZID=America/New_York:20260912T203000
LOCATION:Snapdragon Stadium
DESCRIPTION:Gde gledati San Diego Wave protiv North Carolina Courage u takm
 ičenju NWSL. Prenos uživo i TV program.\nhttps://streamradar.soccer/sr/ma
 tch/5533584/san-diego-wave-vs-north-carolina-courage/
URL;VALUE=URI:https://streamradar.soccer/sr/match/5533584/san-diego-wave-vs
 -north-carolina-courage/
STATUS:CONFIRMED
END:VEVENT
END:VCALENDAR
