BEGIN:VCALENDAR
VERSION:2.0
PRODID:-//StreamRadar//Match Calendar//EN
CALSCALE:GREGORIAN
METHOD:PUBLISH
X-WR-CALNAME:Seattle Reign vs Bay FC
X-WR-TIMEZONE:America/New_York
BEGIN:VEVENT
UID:match-5533582@streamradar.soccer
SUMMARY:Seattle Reign vs Bay FC
DTSTAMP:20260421T092227Z
DTSTART;TZID=America/New_York:20260912T200000
DTEND;TZID=America/New_York:20260912T220000
LOCATION:Lumen Field
DESCRIPTION:Gde gledati Seattle Reign protiv Bay FC u takmičenju NWSL. Pre
 nos uživo i TV program.\nhttps://streamradar.soccer/sr/match/5533582/seatt
 le-reign-vs-bay-fc/
URL;VALUE=URI:https://streamradar.soccer/sr/match/5533582/seattle-reign-vs-
 bay-fc/
STATUS:CONFIRMED
END:VEVENT
END:VCALENDAR
