BEGIN:VCALENDAR
VERSION:2.0
PRODID:-//StreamRadar//Match Calendar//EN
CALSCALE:GREGORIAN
METHOD:PUBLISH
X-WR-CALNAME:Samgurali vs Dinamo Tbilisi
X-WR-TIMEZONE:America/New_York
BEGIN:VEVENT
UID:match-5532405@streamradar.soccer
SUMMARY:Samgurali vs Dinamo Tbilisi
DTSTAMP:20260422T025517Z
DTSTART;TZID=America/New_York:20260919T090000
DTEND;TZID=America/New_York:20260919T110000
LOCATION:26 May Stadium
DESCRIPTION:Gde gledati Samgurali protiv Dinamo Tbilisi u takmičenju Gruzi
 ja - Erovnuli Liga. Prenos uživo i TV program.\nhttps://streamradar.soccer
 /sr/match/5532405/samgurali-vs-dinamo-tbilisi/
URL;VALUE=URI:https://streamradar.soccer/sr/match/5532405/samgurali-vs-dina
 mo-tbilisi/
STATUS:CONFIRMED
END:VEVENT
END:VCALENDAR
