BEGIN:VCALENDAR
VERSION:2.0
PRODID:-//StreamRadar//Match Calendar//EN
CALSCALE:GREGORIAN
METHOD:PUBLISH
X-WR-CALNAME:Dinamo Batumi vs Torpedo Kutaisi
X-WR-TIMEZONE:America/New_York
BEGIN:VEVENT
UID:match-5532402@streamradar.soccer
SUMMARY:Dinamo Batumi vs Torpedo Kutaisi
DTSTAMP:20260422T065721Z
DTSTART;TZID=America/New_York:20260919T090000
DTEND;TZID=America/New_York:20260919T110000
LOCATION:Adjarabet Arena
DESCRIPTION:Gde gledati Dinamo Batumi protiv Torpedo Kutaisi u takmičenju 
 Gruzija - Erovnuli Liga. Prenos uživo i TV program.\nhttps://streamradar.s
 occer/sr/match/5532402/dinamo-batumi-vs-torpedo-kutaisi/
URL;VALUE=URI:https://streamradar.soccer/sr/match/5532402/dinamo-batumi-vs-
 torpedo-kutaisi/
STATUS:CONFIRMED
END:VEVENT
END:VCALENDAR
