BEGIN:VCALENDAR
VERSION:2.0
PRODID:-//StreamRadar//Match Calendar//EN
CALSCALE:GREGORIAN
METHOD:PUBLISH
X-WR-CALNAME:Sandviken vs Örebro
X-WR-TIMEZONE:America/New_York
BEGIN:VEVENT
UID:match-5531912@streamradar.soccer
SUMMARY:Sandviken vs Örebro
DTSTAMP:20260424T025110Z
DTSTART;TZID=America/New_York:20260920T090000
DTEND;TZID=America/New_York:20260920T110000
LOCATION:Jernvallen
DESCRIPTION:Gde gledati Sandviken protiv Örebro u takmičenju Švedska - S
 uperetan. Prenos uživo i TV program.\nhttps://streamradar.soccer/sr/match/
 5531912/sandviken-vs-orebro/
URL;VALUE=URI:https://streamradar.soccer/sr/match/5531912/sandviken-vs-oreb
 ro/
STATUS:CONFIRMED
END:VEVENT
END:VCALENDAR
