BEGIN:VCALENDAR
VERSION:2.0
PRODID:-//StreamRadar//Match Calendar//EN
CALSCALE:GREGORIAN
METHOD:PUBLISH
X-WR-CALNAME:Ljungskile vs Norrby
X-WR-TIMEZONE:America/New_York
BEGIN:VEVENT
UID:match-5531893@streamradar.soccer
SUMMARY:Ljungskile vs Norrby
DTSTAMP:20260422T005919Z
DTSTART;TZID=America/New_York:20260909T090000
DTEND;TZID=America/New_York:20260909T110000
DESCRIPTION:Gde gledati Ljungskile protiv Norrby u takmičenju Švedska - S
 uperetan. Prenos uživo i TV program.\nhttps://streamradar.soccer/sr/match/
 5531893/ljungskile-vs-norrby/
URL;VALUE=URI:https://streamradar.soccer/sr/match/5531893/ljungskile-vs-nor
 rby/
STATUS:CONFIRMED
END:VEVENT
END:VCALENDAR
