BEGIN:VCALENDAR
VERSION:2.0
PRODID:-//StreamRadar//Match Calendar//EN
CALSCALE:GREGORIAN
METHOD:PUBLISH
X-WR-CALNAME:Huachipato vs Colo-Colo
X-WR-TIMEZONE:America/New_York
BEGIN:VEVENT
UID:match-5529997@streamradar.soccer
SUMMARY:Huachipato vs Colo-Colo
DTSTAMP:20260421T112140Z
DTSTART;TZID=America/New_York:20260906T000000
DTEND;TZID=America/New_York:20260906T020000
LOCATION:Estadio Huachipato-CAP Acero
DESCRIPTION:Gde gledati Huachipato protiv Colo-Colo u takmičenju Čile - P
 rimera División Čile. Prenos uživo i TV program.\nhttps://streamradar.so
 ccer/sr/match/5529997/huachipato-vs-colo-colo/
URL;VALUE=URI:https://streamradar.soccer/sr/match/5529997/huachipato-vs-col
 o-colo/
STATUS:CONFIRMED
END:VEVENT
END:VCALENDAR
