BEGIN:VCALENDAR
VERSION:2.0
PRODID:-//StreamRadar//Match Calendar//EN
CALSCALE:GREGORIAN
METHOD:PUBLISH
X-WR-CALNAME:Hønefoss vs Røa
X-WR-TIMEZONE:America/New_York
BEGIN:VEVENT
UID:match-5509926@streamradar.soccer
SUMMARY:Hønefoss vs Røa
DTSTAMP:20260422T045609Z
DTSTART;TZID=America/New_York:20260919T090000
DTEND;TZID=America/New_York:20260919T110000
DESCRIPTION:Gde gledati Hønefoss protiv Røa u takmičenju Norveška - Top
 pserien. Prenos uživo i TV program.\nhttps://streamradar.soccer/sr/match/5
 509926/honefoss-vs-roa/
URL;VALUE=URI:https://streamradar.soccer/sr/match/5509926/honefoss-vs-roa/
STATUS:CONFIRMED
END:VEVENT
END:VCALENDAR
