BEGIN:VCALENDAR
VERSION:2.0
PRODID:-//StreamRadar//Match Calendar//EN
CALSCALE:GREGORIAN
METHOD:PUBLISH
X-WR-CALNAME:Lyn vs Brann
X-WR-TIMEZONE:America/New_York
BEGIN:VEVENT
UID:match-5509920@streamradar.soccer
SUMMARY:Lyn vs Brann
DTSTAMP:20260421T060913Z
DTSTART;TZID=America/New_York:20260912T090000
DTEND;TZID=America/New_York:20260912T110000
LOCATION:Kringsja kunstgress
DESCRIPTION:Gde gledati Lyn protiv Brann u takmičenju Norveška - Toppseri
 en. Prenos uživo i TV program.\nhttps://streamradar.soccer/sr/match/550992
 0/lyn-vs-brann/
URL;VALUE=URI:https://streamradar.soccer/sr/match/5509920/lyn-vs-brann/
STATUS:CONFIRMED
END:VEVENT
END:VCALENDAR
