BEGIN:VCALENDAR
VERSION:2.0
PRODID:-//StreamRadar//Match Calendar//EN
CALSCALE:GREGORIAN
METHOD:PUBLISH
X-WR-CALNAME:Fort Wayne vs Naples
X-WR-TIMEZONE:America/New_York
BEGIN:VEVENT
UID:match-5509609@streamradar.soccer
SUMMARY:Fort Wayne vs Naples
DTSTAMP:20260422T043236Z
DTSTART;TZID=America/New_York:20260919T193000
DTEND;TZID=America/New_York:20260919T213000
DESCRIPTION:Gde gledati Fort Wayne protiv Naples u takmičenju Sjedinjene D
 ržave - USL League One. Prenos uživo i TV program.\nhttps://streamradar.s
 occer/sr/match/5509609/fort-wayne-vs-naples/
URL;VALUE=URI:https://streamradar.soccer/sr/match/5509609/fort-wayne-vs-nap
 les/
STATUS:CONFIRMED
END:VEVENT
END:VCALENDAR
