BEGIN:VCALENDAR
VERSION:2.0
PRODID:-//StreamRadar//Match Calendar//EN
CALSCALE:GREGORIAN
METHOD:PUBLISH
X-WR-CALNAME:NY Cosmos vs Westchester SC
X-WR-TIMEZONE:America/New_York
BEGIN:VEVENT
UID:match-5509605@streamradar.soccer
SUMMARY:NY Cosmos vs Westchester SC
DTSTAMP:20260422T053928Z
DTSTART;TZID=America/New_York:20260919T170000
DTEND;TZID=America/New_York:20260919T190000
LOCATION:Hinchliffe Stadium
DESCRIPTION:Gde gledati NY Cosmos protiv Westchester SC u takmičenju Sjedi
 njene Države - USL League One. Prenos uživo i TV program.\nhttps://stream
 radar.soccer/sr/match/5509605/ny-cosmos-vs-westchester-sc/
URL;VALUE=URI:https://streamradar.soccer/sr/match/5509605/ny-cosmos-vs-west
 chester-sc/
STATUS:CONFIRMED
END:VEVENT
END:VCALENDAR
