BEGIN:VCALENDAR
VERSION:2.0
PRODID:-//StreamRadar//Match Calendar//EN
CALSCALE:GREGORIAN
METHOD:PUBLISH
X-WR-CALNAME:Kristianstad vs Piteå
X-WR-TIMEZONE:America/New_York
BEGIN:VEVENT
UID:match-5509156@streamradar.soccer
SUMMARY:Kristianstad vs Piteå
DTSTAMP:20260425T162306Z
DTSTART;TZID=America/New_York:20260920T090000
DTEND;TZID=America/New_York:20260920T110000
LOCATION:Kristianstad Arena
DESCRIPTION:Gde gledati Kristianstad protiv Piteå u takmičenju Švedska -
  Damallsvenskan. Prenos uživo i TV program.\nhttps://streamradar.soccer/sr
 /match/5509156/kristianstad-vs-pitea/
URL;VALUE=URI:https://streamradar.soccer/sr/match/5509156/kristianstad-vs-p
 itea/
STATUS:CONFIRMED
END:VEVENT
END:VCALENDAR
