BEGIN:VCALENDAR
VERSION:2.0
PRODID:-//StreamRadar//Match Calendar//EN
CALSCALE:GREGORIAN
METHOD:PUBLISH
X-WR-CALNAME:Mjøndalen vs Sotra
X-WR-TIMEZONE:America/New_York
BEGIN:VEVENT
UID:match-5508791@streamradar.soccer
SUMMARY:Mjøndalen vs Sotra
DTSTAMP:20260422T053012Z
DTSTART;TZID=America/New_York:20260919T100000
DTEND;TZID=America/New_York:20260919T120000
LOCATION:Consto Arena
DESCRIPTION:Gde gledati Mjøndalen protiv Sotra u takmičenju Norveška - 2
 . Divisjon. Prenos uživo i TV program.\nhttps://streamradar.soccer/sr/matc
 h/5508791/mjondalen-vs-sotra/
URL;VALUE=URI:https://streamradar.soccer/sr/match/5508791/mjondalen-vs-sotr
 a/
STATUS:CONFIRMED
END:VEVENT
END:VCALENDAR
