BEGIN:VCALENDAR
VERSION:2.0
PRODID:-//StreamRadar//Match Calendar//EN
CALSCALE:GREGORIAN
METHOD:PUBLISH
X-WR-CALNAME:Træff vs Notodden
X-WR-TIMEZONE:America/New_York
BEGIN:VEVENT
UID:match-5508786@streamradar.soccer
SUMMARY:Træff vs Notodden
DTSTAMP:20260421T104111Z
DTSTART;TZID=America/New_York:20260913T073000
DTEND;TZID=America/New_York:20260913T093000
LOCATION:Reknesbanen
DESCRIPTION:Gde gledati Træff protiv Notodden u takmičenju Norveška - 2.
  Divisjon. Prenos uživo i TV program.\nhttps://streamradar.soccer/sr/match
 /5508786/traff-vs-notodden/
URL;VALUE=URI:https://streamradar.soccer/sr/match/5508786/traff-vs-notodden
 /
STATUS:CONFIRMED
END:VEVENT
END:VCALENDAR
