BEGIN:VCALENDAR
VERSION:2.0
PRODID:-//StreamRadar//Match Calendar//EN
CALSCALE:GREGORIAN
METHOD:PUBLISH
X-WR-CALNAME:Haugesund vs Strømmen
X-WR-TIMEZONE:America/New_York
BEGIN:VEVENT
UID:match-5507622@streamradar.soccer
SUMMARY:Haugesund vs Strømmen
DTSTAMP:20260425T162334Z
DTSTART;TZID=America/New_York:20260920T110000
DTEND;TZID=America/New_York:20260920T130000
LOCATION:Haugesund Stadion
DESCRIPTION:Gde gledati Haugesund protiv Strømmen u takmičenju Norveška 
 - OBOS-ligaen. Prenos uživo i TV program.\nhttps://streamradar.soccer/sr/m
 atch/5507622/haugesund-vs-strommen/
URL;VALUE=URI:https://streamradar.soccer/sr/match/5507622/haugesund-vs-stro
 mmen/
STATUS:CONFIRMED
END:VEVENT
END:VCALENDAR
