BEGIN:VCALENDAR
VERSION:2.0
PRODID:-//StreamRadar//Match Calendar//EN
CALSCALE:GREGORIAN
METHOD:PUBLISH
X-WR-CALNAME:Strømsgodset vs Sandnes Ulf
X-WR-TIMEZONE:America/New_York
BEGIN:VEVENT
UID:match-5507620@streamradar.soccer
SUMMARY:Strømsgodset vs Sandnes Ulf
DTSTAMP:20260421T170533Z
DTSTART;TZID=America/New_York:20260913T110000
DTEND;TZID=America/New_York:20260913T130000
LOCATION:Marienlyst Stadion
DESCRIPTION:Gde gledati Strømsgodset protiv Sandnes Ulf u takmičenju Norv
 eška - OBOS-ligaen. Prenos uživo i TV program.\nhttps://streamradar.socce
 r/sr/match/5507620/stromsgodset-vs-sandnes-ulf/
URL;VALUE=URI:https://streamradar.soccer/sr/match/5507620/stromsgodset-vs-s
 andnes-ulf/
STATUS:CONFIRMED
END:VEVENT
END:VCALENDAR
