BEGIN:VCALENDAR
VERSION:2.0
PRODID:-//StreamRadar//Match Calendar//EN
CALSCALE:GREGORIAN
METHOD:PUBLISH
X-WR-CALNAME:Stabæk vs Moss
X-WR-TIMEZONE:America/New_York
BEGIN:VEVENT
UID:match-5507611@streamradar.soccer
SUMMARY:Stabæk vs Moss
DTSTAMP:20260421T142113Z
DTSTART;TZID=America/New_York:20260906T110000
DTEND;TZID=America/New_York:20260906T130000
LOCATION:Nadderud Stadion
DESCRIPTION:Gde gledati Stabæk protiv Moss u takmičenju Norveška - OBOS-
 ligaen. Prenos uživo i TV program.\nhttps://streamradar.soccer/sr/match/55
 07611/stabak-vs-moss/
URL;VALUE=URI:https://streamradar.soccer/sr/match/5507611/stabak-vs-moss/
STATUS:CONFIRMED
END:VEVENT
END:VCALENDAR
