BEGIN:VCALENDAR
VERSION:2.0
PRODID:-//StreamRadar//Match Calendar//EN
CALSCALE:GREGORIAN
METHOD:PUBLISH
X-WR-CALNAME:Cork City vs Cobh Ramblers
X-WR-TIMEZONE:America/New_York
BEGIN:VEVENT
UID:match-5507392@streamradar.soccer
SUMMARY:Cork City vs Cobh Ramblers
DTSTAMP:20260425T132758Z
DTSTART;TZID=America/New_York:20260911T144500
DTEND;TZID=America/New_York:20260911T164500
LOCATION:Turners Cross
DESCRIPTION:Gde gledati Cork City protiv Cobh Ramblers u takmičenju Prva d
 ivizija Irske. Prenos uživo i TV program.\nhttps://streamradar.soccer/sr/m
 atch/5507392/cork-city-vs-cobh-ramblers/
URL;VALUE=URI:https://streamradar.soccer/sr/match/5507392/cork-city-vs-cobh
 -ramblers/
STATUS:CONFIRMED
END:VEVENT
END:VCALENDAR
