BEGIN:VCALENDAR
VERSION:2.0
PRODID:-//StreamRadar//Match Calendar//EN
CALSCALE:GREGORIAN
METHOD:PUBLISH
X-WR-CALNAME:Molde vs Aalesund
X-WR-TIMEZONE:America/New_York
BEGIN:VEVENT
UID:match-5506737@streamradar.soccer
SUMMARY:Molde vs Aalesund
DTSTAMP:20260425T162304Z
DTSTART;TZID=America/New_York:20260920T110000
DTEND;TZID=America/New_York:20260920T130000
LOCATION:Aker Stadion
DESCRIPTION:Gde gledati Molde protiv Aalesund u takmičenju Norveška - Eli
 teserien. Prenos uživo i TV program.\nhttps://streamradar.soccer/sr/match/
 5506737/molde-vs-aalesund/
URL;VALUE=URI:https://streamradar.soccer/sr/match/5506737/molde-vs-aalesund
 /
STATUS:CONFIRMED
END:VEVENT
END:VCALENDAR
