BEGIN:VCALENDAR
VERSION:2.0
PRODID:-//StreamRadar//Match Calendar//EN
CALSCALE:GREGORIAN
METHOD:PUBLISH
X-WR-CALNAME:Molde vs KFUM
X-WR-TIMEZONE:America/New_York
BEGIN:VEVENT
UID:match-5506723@streamradar.soccer
SUMMARY:Molde vs KFUM
DTSTAMP:20260421T095636Z
DTSTART;TZID=America/New_York:20260906T110000
DTEND;TZID=America/New_York:20260906T130000
LOCATION:Aker Stadion
DESCRIPTION:Gde gledati Molde protiv KFUM u takmičenju Norveška - Elitese
 rien. Prenos uživo i TV program.\nhttps://streamradar.soccer/sr/match/5506
 723/molde-vs-kfum/
URL;VALUE=URI:https://streamradar.soccer/sr/match/5506723/molde-vs-kfum/
STATUS:CONFIRMED
END:VEVENT
END:VCALENDAR
