BEGIN:VCALENDAR
VERSION:2.0
PRODID:-//StreamRadar//Match Calendar//EN
CALSCALE:GREGORIAN
METHOD:PUBLISH
X-WR-CALNAME:Brann vs Lillestrøm
X-WR-TIMEZONE:America/New_York
BEGIN:VEVENT
UID:match-5506720@streamradar.soccer
SUMMARY:Brann vs Lillestrøm
DTSTAMP:20260421T095805Z
DTSTART;TZID=America/New_York:20260906T110000
DTEND;TZID=America/New_York:20260906T130000
LOCATION:Brann Stadion
DESCRIPTION:Gde gledati Brann protiv Lillestrøm u takmičenju Norveška - 
 Eliteserien. Prenos uživo i TV program.\nhttps://streamradar.soccer/sr/mat
 ch/5506720/brann-vs-lillestrom/
URL;VALUE=URI:https://streamradar.soccer/sr/match/5506720/brann-vs-lillestr
 om/
STATUS:CONFIRMED
END:VEVENT
END:VCALENDAR
