BEGIN:VCALENDAR
VERSION:2.0
PRODID:-//StreamRadar//Match Calendar//EN
CALSCALE:GREGORIAN
METHOD:PUBLISH
X-WR-CALNAME:Sligo Rovers vs St Patrick's
X-WR-TIMEZONE:America/New_York
BEGIN:VEVENT
UID:match-5506295@streamradar.soccer
SUMMARY:Sligo Rovers vs St Patrick's
DTSTAMP:20260425T162312Z
DTSTART;TZID=America/New_York:20260919T144500
DTEND;TZID=America/New_York:20260919T164500
LOCATION:Showgrounds
DESCRIPTION:Gde gledati Sligo Rovers protiv St Patrick's u takmičenju Prem
 ier Division. Prenos uživo i TV program.\nhttps://streamradar.soccer/sr/ma
 tch/5506295/sligo-rovers-vs-st-patricks/
URL;VALUE=URI:https://streamradar.soccer/sr/match/5506295/sligo-rovers-vs-s
 t-patricks/
STATUS:CONFIRMED
END:VEVENT
END:VCALENDAR
