BEGIN:VCALENDAR
VERSION:2.0
PRODID:-//StreamRadar//Match Calendar//EN
CALSCALE:GREGORIAN
METHOD:PUBLISH
X-WR-CALNAME:Shelbourne vs Drogheda United
X-WR-TIMEZONE:America/New_York
BEGIN:VEVENT
UID:match-5506282@streamradar.soccer
SUMMARY:Shelbourne vs Drogheda United
DTSTAMP:20260422T110149Z
DTSTART;TZID=America/New_York:20260904T144500
DTEND;TZID=America/New_York:20260904T164500
LOCATION:Tolka Park
DESCRIPTION:Gde gledati Shelbourne protiv Drogheda United u takmičenju Pre
 mier Division. Prenos uživo i TV program.\nhttps://streamradar.soccer/sr/m
 atch/5506282/shelbourne-vs-drogheda-united/
URL;VALUE=URI:https://streamradar.soccer/sr/match/5506282/shelbourne-vs-dro
 gheda-united/
STATUS:CONFIRMED
END:VEVENT
END:VCALENDAR
