BEGIN:VCALENDAR
VERSION:2.0
PRODID:-//StreamRadar//Match Calendar//EN
CALSCALE:GREGORIAN
METHOD:PUBLISH
X-WR-CALNAME:Västerås SK vs Malmö FF
X-WR-TIMEZONE:America/New_York
BEGIN:VEVENT
UID:match-5505863@streamradar.soccer
SUMMARY:Västerås SK vs Malmö FF
DTSTAMP:20260425T162317Z
DTSTART;TZID=America/New_York:20260920T090000
DTEND;TZID=America/New_York:20260920T110000
LOCATION:Hitachi Energy Arena
DESCRIPTION:Gde gledati Västerås SK protiv Malmö FF u takmičenju Šveds
 ka - Allsvenskan. Prenos uživo i TV program.\nhttps://streamradar.soccer/s
 r/match/5505863/vasteras-sk-vs-malmo-ff/
URL;VALUE=URI:https://streamradar.soccer/sr/match/5505863/vasteras-sk-vs-ma
 lmo-ff/
STATUS:CONFIRMED
END:VEVENT
END:VCALENDAR
