BEGIN:VCALENDAR
VERSION:2.0
PRODID:-//StreamRadar//Match Calendar//EN
CALSCALE:GREGORIAN
METHOD:PUBLISH
X-WR-CALNAME:Hammarby vs Brommapojkarna
X-WR-TIMEZONE:America/New_York
BEGIN:VEVENT
UID:match-5505853@streamradar.soccer
SUMMARY:Hammarby vs Brommapojkarna
DTSTAMP:20260421T084138Z
DTSTART;TZID=America/New_York:20260913T090000
DTEND;TZID=America/New_York:20260913T110000
LOCATION:3Arena
DESCRIPTION:Gde gledati Hammarby protiv Brommapojkarna u takmičenju Šveds
 ka - Allsvenskan. Prenos uživo i TV program.\nhttps://streamradar.soccer/s
 r/match/5505853/hammarby-vs-brommapojkarna/
URL;VALUE=URI:https://streamradar.soccer/sr/match/5505853/hammarby-vs-bromm
 apojkarna/
STATUS:CONFIRMED
END:VEVENT
END:VCALENDAR
