BEGIN:VCALENDAR
VERSION:2.0
PRODID:-//StreamRadar//Match Calendar//EN
CALSCALE:GREGORIAN
METHOD:PUBLISH
X-WR-CALNAME:Djurgården vs GAIS
X-WR-TIMEZONE:America/New_York
BEGIN:VEVENT
UID:match-5505849@streamradar.soccer
SUMMARY:Djurgården vs GAIS
DTSTAMP:20260421T095816Z
DTSTART;TZID=America/New_York:20260913T090000
DTEND;TZID=America/New_York:20260913T110000
LOCATION:3Arena
DESCRIPTION:Gde gledati Djurgården protiv GAIS u takmičenju Švedska - Al
 lsvenskan. Prenos uživo i TV program.\nhttps://streamradar.soccer/sr/match
 /5505849/djurgarden-vs-gais/
URL;VALUE=URI:https://streamradar.soccer/sr/match/5505849/djurgarden-vs-gai
 s/
STATUS:CONFIRMED
END:VEVENT
END:VCALENDAR
