BEGIN:VCALENDAR
VERSION:2.0
PRODID:-//StreamRadar//Match Calendar//EN
CALSCALE:GREGORIAN
METHOD:PUBLISH
X-WR-CALNAME:GAIS vs Häcken
X-WR-TIMEZONE:America/New_York
BEGIN:VEVENT
UID:match-5505842@streamradar.soccer
SUMMARY:GAIS vs Häcken
DTSTAMP:20260421T095535Z
DTSTART;TZID=America/New_York:20260906T090000
DTEND;TZID=America/New_York:20260906T110000
DESCRIPTION:Gde gledati GAIS protiv Häcken u takmičenju Švedska - Allsve
 nskan. Prenos uživo i TV program.\nhttps://streamradar.soccer/sr/match/550
 5842/gais-vs-hacken/
URL;VALUE=URI:https://streamradar.soccer/sr/match/5505842/gais-vs-hacken/
STATUS:CONFIRMED
END:VEVENT
END:VCALENDAR
