BEGIN:VCALENDAR
VERSION:2.0
PRODID:-//StreamRadar//Match Calendar//EN
CALSCALE:GREGORIAN
METHOD:PUBLISH
X-WR-CALNAME:Rhode Island vs Miami FC
X-WR-TIMEZONE:America/New_York
BEGIN:VEVENT
UID:match-5505615@streamradar.soccer
SUMMARY:Rhode Island vs Miami FC
DTSTAMP:20260422T044028Z
DTSTART;TZID=America/New_York:20260919T193000
DTEND;TZID=America/New_York:20260919T213000
LOCATION:Centreville Bank Stadium
DESCRIPTION:Gde gledati Rhode Island protiv Miami FC u takmičenju USL Cham
 pionship. Prenos uživo i TV program.\nhttps://streamradar.soccer/sr/match/
 5505615/rhode-island-vs-miami-fc/
URL;VALUE=URI:https://streamradar.soccer/sr/match/5505615/rhode-island-vs-m
 iami-fc/
STATUS:CONFIRMED
END:VEVENT
END:VCALENDAR
