BEGIN:VCALENDAR
VERSION:2.0
PRODID:-//StreamRadar//Match Calendar//EN
CALSCALE:GREGORIAN
METHOD:PUBLISH
X-WR-CALNAME:Sacramento Republic vs Detroit City
X-WR-TIMEZONE:America/New_York
BEGIN:VEVENT
UID:match-5505602@streamradar.soccer
SUMMARY:Sacramento Republic vs Detroit City
DTSTAMP:20260421T152205Z
DTSTART;TZID=America/New_York:20260912T220000
DTEND;TZID=America/New_York:20260913T000000
LOCATION:Heart Health Park
DESCRIPTION:Gde gledati Sacramento Republic protiv Detroit City u takmičen
 ju USL Championship. Prenos uživo i TV program.\nhttps://streamradar.socce
 r/sr/match/5505602/sacramento-republic-vs-detroit-city/
URL;VALUE=URI:https://streamradar.soccer/sr/match/5505602/sacramento-republ
 ic-vs-detroit-city/
STATUS:CONFIRMED
END:VEVENT
END:VCALENDAR
