BEGIN:VCALENDAR
VERSION:2.0
PRODID:-//StreamRadar//Match Calendar//EN
CALSCALE:GREGORIAN
METHOD:PUBLISH
X-WR-CALNAME:Hartford Athletic vs Tampa Bay Rowdies
X-WR-TIMEZONE:America/New_York
BEGIN:VEVENT
UID:match-5505596@streamradar.soccer
SUMMARY:Hartford Athletic vs Tampa Bay Rowdies
DTSTAMP:20260421T110340Z
DTSTART;TZID=America/New_York:20260912T190000
DTEND;TZID=America/New_York:20260912T210000
LOCATION:Trinity Health Stadium
DESCRIPTION:Gde gledati Hartford Athletic protiv Tampa Bay Rowdies u takmi
 enju USL Championship. Prenos uživo i TV program.\nhttps://streamradar.so
 ccer/sr/match/5505596/hartford-athletic-vs-tampa-bay-rowdies/
URL;VALUE=URI:https://streamradar.soccer/sr/match/5505596/hartford-athletic
 -vs-tampa-bay-rowdies/
STATUS:CONFIRMED
END:VEVENT
END:VCALENDAR
