BEGIN:VCALENDAR
VERSION:2.0
PRODID:-//StreamRadar//Match Calendar//EN
CALSCALE:GREGORIAN
METHOD:PUBLISH
X-WR-CALNAME:Portland Timbers vs St. Louis City
X-WR-TIMEZONE:America/New_York
BEGIN:VEVENT
UID:match-5505157@streamradar.soccer
SUMMARY:Portland Timbers vs St. Louis City
DTSTAMP:20260421T161636Z
DTSTART;TZID=America/New_York:20260909T223000
DTEND;TZID=America/New_York:20260910T003000
LOCATION:Providence Park
DESCRIPTION:Gde gledati Portland Timbers protiv St. Louis City u takmičenj
 u Major Leauge Soccer. Prenos uživo i TV program.\nhttps://streamradar.soc
 cer/sr/match/5505157/portland-timbers-vs-st-louis-city/
URL;VALUE=URI:https://streamradar.soccer/sr/match/5505157/portland-timbers-
 vs-st-louis-city/
STATUS:CONFIRMED
END:VEVENT
END:VCALENDAR
