BEGIN:VCALENDAR
VERSION:2.0
PRODID:-//StreamRadar//Match Calendar//EN
CALSCALE:GREGORIAN
METHOD:PUBLISH
X-WR-CALNAME:Philadelphia Union vs Cincinnati
X-WR-TIMEZONE:America/New_York
BEGIN:VEVENT
UID:match-5505150@streamradar.soccer
SUMMARY:Philadelphia Union vs Cincinnati
DTSTAMP:20260421T135901Z
DTSTART;TZID=America/New_York:20260909T193000
DTEND;TZID=America/New_York:20260909T213000
LOCATION:Subaru Park
DESCRIPTION:Gde gledati Philadelphia Union protiv Cincinnati u takmičenju 
 Major Leauge Soccer. Prenos uživo i TV program.\nhttps://streamradar.socce
 r/sr/match/5505150/philadelphia-union-vs-cincinnati/
URL;VALUE=URI:https://streamradar.soccer/sr/match/5505150/philadelphia-unio
 n-vs-cincinnati/
STATUS:CONFIRMED
END:VEVENT
END:VCALENDAR
