BEGIN:VCALENDAR
VERSION:2.0
PRODID:-//StreamRadar//Match Calendar//EN
CALSCALE:GREGORIAN
METHOD:PUBLISH
X-WR-CALNAME:Atlanta United vs Orlando City SC
X-WR-TIMEZONE:America/New_York
BEGIN:VEVENT
UID:match-5505146@streamradar.soccer
SUMMARY:Atlanta United vs Orlando City SC
DTSTAMP:20260421T181313Z
DTSTART;TZID=America/New_York:20260909T193000
DTEND;TZID=America/New_York:20260909T213000
LOCATION:Mercedes-Benz Stadium
DESCRIPTION:Gde gledati Atlanta United protiv Orlando City SC u takmičenju
  Major Leauge Soccer. Prenos uživo i TV program.\nhttps://streamradar.socc
 er/sr/match/5505146/atlanta-united-vs-orlando-city-sc/
URL;VALUE=URI:https://streamradar.soccer/sr/match/5505146/atlanta-united-vs
 -orlando-city-sc/
STATUS:CONFIRMED
END:VEVENT
END:VCALENDAR
