BEGIN:VCALENDAR
VERSION:2.0
PRODID:-//StreamRadar//Match Calendar//EN
CALSCALE:GREGORIAN
METHOD:PUBLISH
X-WR-CALNAME:Remo vs Santos
X-WR-TIMEZONE:America/New_York
BEGIN:VEVENT
UID:match-5504567@streamradar.soccer
SUMMARY:Remo vs Santos
DTSTAMP:20260425T162157Z
DTSTART;TZID=America/New_York:20260920T160000
DTEND;TZID=America/New_York:20260920T180000
LOCATION:Estadio Evandro Almeida
DESCRIPTION:Gde gledati Remo protiv Santos u takmičenju Brazil - Brasileir
 ao. Prenos uživo i TV program.\nhttps://streamradar.soccer/sr/match/550456
 7/remo-vs-santos/
URL;VALUE=URI:https://streamradar.soccer/sr/match/5504567/remo-vs-santos/
STATUS:CONFIRMED
END:VEVENT
END:VCALENDAR
