BEGIN:VCALENDAR
VERSION:2.0
PRODID:-//StreamRadar//Match Calendar//EN
CALSCALE:GREGORIAN
METHOD:PUBLISH
X-WR-CALNAME:Coritiba vs Athletico-PR
X-WR-TIMEZONE:America/New_York
BEGIN:VEVENT
UID:match-5504555@streamradar.soccer
SUMMARY:Coritiba vs Athletico-PR
DTSTAMP:20260421T092010Z
DTSTART;TZID=America/New_York:20260913T160000
DTEND;TZID=America/New_York:20260913T180000
DESCRIPTION:Gde gledati Coritiba protiv Athletico-PR u takmičenju Brazil -
  Brasileirao. Prenos uživo i TV program.\nhttps://streamradar.soccer/sr/ma
 tch/5504555/coritiba-vs-athletico-pr/
URL;VALUE=URI:https://streamradar.soccer/sr/match/5504555/coritiba-vs-athle
 tico-pr/
STATUS:CONFIRMED
END:VEVENT
END:VCALENDAR
