BEGIN:VCALENDAR
VERSION:2.0
PRODID:-//StreamRadar//Match Calendar//EN
CALSCALE:GREGORIAN
METHOD:PUBLISH
X-WR-CALNAME:Chapecoense vs Internacional
X-WR-TIMEZONE:America/New_York
BEGIN:VEVENT
UID:match-5504554@streamradar.soccer
SUMMARY:Chapecoense vs Internacional
DTSTAMP:20260421T091907Z
DTSTART;TZID=America/New_York:20260913T160000
DTEND;TZID=America/New_York:20260913T180000
DESCRIPTION:Gde gledati Chapecoense protiv Internacional u takmičenju Braz
 il - Brasileirao. Prenos uživo i TV program.\nhttps://streamradar.soccer/s
 r/match/5504554/chapecoense-vs-internacional/
URL;VALUE=URI:https://streamradar.soccer/sr/match/5504554/chapecoense-vs-in
 ternacional/
STATUS:CONFIRMED
END:VEVENT
END:VCALENDAR
