BEGIN:VCALENDAR
VERSION:2.0
PRODID:-//StreamRadar//Match Calendar//EN
CALSCALE:GREGORIAN
METHOD:PUBLISH
X-WR-CALNAME:Atlético Mineiro vs Fluminense
X-WR-TIMEZONE:America/New_York
BEGIN:VEVENT
UID:match-5504551@streamradar.soccer
SUMMARY:Atlético Mineiro vs Fluminense
DTSTAMP:20260421T092019Z
DTSTART;TZID=America/New_York:20260913T160000
DTEND;TZID=America/New_York:20260913T180000
LOCATION:MRV Arena
DESCRIPTION:Gde gledati Atlético Mineiro protiv Fluminense u takmičenju B
 razil - Brasileirao. Prenos uživo i TV program.\nhttps://streamradar.socce
 r/sr/match/5504551/atletico-mineiro-vs-fluminense/
URL;VALUE=URI:https://streamradar.soccer/sr/match/5504551/atletico-mineiro-
 vs-fluminense/
STATUS:CONFIRMED
END:VEVENT
END:VCALENDAR
