BEGIN:VCALENDAR
VERSION:2.0
PRODID:-//StreamRadar//Match Calendar//EN
CALSCALE:GREGORIAN
METHOD:PUBLISH
X-WR-CALNAME:Vélez Sarsfield vs Tigre
X-WR-TIMEZONE:America/New_York
BEGIN:VEVENT
UID:match-5504200@streamradar.soccer
SUMMARY:Vélez Sarsfield vs Tigre
DTSTAMP:20260423T095650Z
DTSTART;TZID=America/New_York:20260920T160000
DTEND;TZID=America/New_York:20260920T180000
DESCRIPTION:Gde gledati Vélez Sarsfield protiv Tigre u takmičenju Argenti
 na - Primera División Argentina. Prenos uživo i TV program.\nhttps://stre
 amradar.soccer/sr/match/5504200/velez-sarsfield-vs-tigre/
URL;VALUE=URI:https://streamradar.soccer/sr/match/5504200/velez-sarsfield-v
 s-tigre/
STATUS:CONFIRMED
END:VEVENT
END:VCALENDAR
