BEGIN:VCALENDAR
VERSION:2.0
PRODID:-//StreamRadar//Match Calendar//EN
CALSCALE:GREGORIAN
METHOD:PUBLISH
X-WR-CALNAME:Central Córdoba SdE vs Defensa y Justicia
X-WR-TIMEZONE:America/New_York
BEGIN:VEVENT
UID:match-5504189@streamradar.soccer
SUMMARY:Central Córdoba SdE vs Defensa y Justicia
DTSTAMP:20260423T095754Z
DTSTART;TZID=America/New_York:20260920T160000
DTEND;TZID=America/New_York:20260920T180000
LOCATION:Estadio Unico Madre de Ciudades
DESCRIPTION:Gde gledati Central Córdoba SdE protiv Defensa Y Justicia u ta
 kmičenju Argentina - Primera División Argentina. Prenos uživo i TV progr
 am.\nhttps://streamradar.soccer/sr/match/5504189/central-cordoba-sde-vs-def
 ensa-y-justicia/
URL;VALUE=URI:https://streamradar.soccer/sr/match/5504189/central-cordoba-s
 de-vs-defensa-y-justicia/
STATUS:CONFIRMED
END:VEVENT
END:VCALENDAR
