BEGIN:VCALENDAR
VERSION:2.0
PRODID:-//StreamRadar//Match Calendar//EN
CALSCALE:GREGORIAN
METHOD:PUBLISH
X-WR-CALNAME:Banfield vs Barracas Central
X-WR-TIMEZONE:America/New_York
BEGIN:VEVENT
UID:match-5504173@streamradar.soccer
SUMMARY:Banfield vs Barracas Central
DTSTAMP:20260421T033642Z
DTSTART;TZID=America/New_York:20260913T160000
DTEND;TZID=America/New_York:20260913T180000
LOCATION:Estadio Florencio Sola
DESCRIPTION:Gde gledati Banfield protiv Barracas Central u takmičenju Arge
 ntina - Primera División Argentina. Prenos uživo i TV program.\nhttps://s
 treamradar.soccer/sr/match/5504173/banfield-vs-barracas-central/
URL;VALUE=URI:https://streamradar.soccer/sr/match/5504173/banfield-vs-barra
 cas-central/
STATUS:CONFIRMED
END:VEVENT
END:VCALENDAR
