BEGIN:VCALENDAR
VERSION:2.0
PRODID:-//StreamRadar//Match Calendar//EN
CALSCALE:GREGORIAN
METHOD:PUBLISH
X-WR-CALNAME:Vélez Sarsfield vs Estudiantes
X-WR-TIMEZONE:America/New_York
BEGIN:VEVENT
UID:match-5504170@streamradar.soccer
SUMMARY:Vélez Sarsfield vs Estudiantes
DTSTAMP:20260421T050525Z
DTSTART;TZID=America/New_York:20260906T160000
DTEND;TZID=America/New_York:20260906T180000
DESCRIPTION:Gde gledati Vélez Sarsfield protiv Estudiantes u takmičenju A
 rgentina - Primera División Argentina. Prenos uživo i TV program.\nhttps:
 //streamradar.soccer/sr/match/5504170/velez-sarsfield-vs-estudiantes/
URL;VALUE=URI:https://streamradar.soccer/sr/match/5504170/velez-sarsfield-v
 s-estudiantes/
STATUS:CONFIRMED
END:VEVENT
END:VCALENDAR
