BEGIN:VCALENDAR
VERSION:2.0
PRODID:-//StreamRadar//Match Calendar//EN
CALSCALE:GREGORIAN
METHOD:PUBLISH
X-WR-CALNAME:Bandari vs Nairobi Utd
X-WR-TIMEZONE:America/New_York
BEGIN:VEVENT
UID:match-5437730@streamradar.soccer
SUMMARY:Bandari vs Nairobi Utd
DTSTAMP:20260423T134423Z
DTSTART;TZID=America/New_York:20260225T070000
DTEND;TZID=America/New_York:20260225T090000
LOCATION:Mbaraki Sports Club (Mombasa)
DESCRIPTION:Gde gledati Bandari protiv Nairobi Utd u takmičenju Kenyan Pre
 mier League. Prenos uživo i TV program.\nhttps://streamradar.soccer/sr/mat
 ch/5437730/bandari-vs-nairobi-utd/
URL;VALUE=URI:https://streamradar.soccer/sr/match/5437730/bandari-vs-nairob
 i-utd/
STATUS:CONFIRMED
END:VEVENT
END:VCALENDAR
