BEGIN:VCALENDAR
VERSION:2.0
PRODID:-//StreamRadar//Match Calendar//EN
CALSCALE:GREGORIAN
METHOD:PUBLISH
X-WR-CALNAME:Hummetroth vs Eddersheim
X-WR-TIMEZONE:America/New_York
BEGIN:VEVENT
UID:match-5410584@streamradar.soccer
SUMMARY:Hummetroth vs Eddersheim
DTSTAMP:20260421T092216Z
DTSTART;TZID=America/New_York:20260509T130000
DTEND;TZID=America/New_York:20260509T150000
LOCATION:Erbacher Sportpark (Erbach im Odenwald)
DESCRIPTION:Gde gledati Hummetroth protiv Eddersheim u takmičenju Nemačka
  - Oberliga. Prenos uživo i TV program.\nhttps://streamradar.soccer/sr/mat
 ch/5410584/hummetroth-vs-eddersheim/
URL;VALUE=URI:https://streamradar.soccer/sr/match/5410584/hummetroth-vs-edd
 ersheim/
STATUS:CONFIRMED
END:VEVENT
END:VCALENDAR
