BEGIN:VCALENDAR
VERSION:2.0
PRODID:-//StreamRadar//Match Calendar//EN
CALSCALE:GREGORIAN
METHOD:PUBLISH
X-WR-CALNAME:Gabès vs Stade Tunisien
X-WR-TIMEZONE:America/New_York
BEGIN:VEVENT
UID:match-5620964@streamradar.soccer
SUMMARY:Gabès vs Stade Tunisien
DTSTAMP:20260425T115834Z
DTSTART;TZID=America/New_York:20260513T093000
DTEND;TZID=America/New_York:20260513T113000
LOCATION:Gabes Municipal Stadium
DESCRIPTION:Где смотреть Габес – Stade Tunisien в тур
 нире Тунис - Ligue Professionnelle 1. Прямая трансля
 ия и телепрограмма.\nhttps://streamradar.soccer/ru/match/5
 620964/gabes-vs-stade-tunisien/
URL;VALUE=URI:https://streamradar.soccer/ru/match/5620964/gabes-vs-stade-tu
 nisien/
STATUS:CONFIRMED
END:VEVENT
END:VCALENDAR
