BEGIN:VCALENDAR
VERSION:2.0
PRODID:-//StreamRadar//Match Calendar//EN
CALSCALE:GREGORIAN
METHOD:PUBLISH
X-WR-CALNAME:Stade Tunisien vs Ben Guerdane
X-WR-TIMEZONE:America/New_York
BEGIN:VEVENT
UID:match-5620962@streamradar.soccer
SUMMARY:Stade Tunisien vs Ben Guerdane
DTSTAMP:20260425T115900Z
DTSTART;TZID=America/New_York:20260508T093000
DTEND;TZID=America/New_York:20260508T113000
LOCATION:Stade Hedi-Enneifer
DESCRIPTION:Где смотреть Stade Tunisien – Ben Guerdane в ту
 рнире Тунис - Ligue Professionnelle 1. Прямая трансл
 ция и телепрограмма.\nhttps://streamradar.soccer/ru/match
 /5620962/stade-tunisien-vs-ben-guerdane/
URL;VALUE=URI:https://streamradar.soccer/ru/match/5620962/stade-tunisien-vs
 -ben-guerdane/
STATUS:CONFIRMED
END:VEVENT
END:VCALENDAR
